BEGIN:VCALENDAR
VERSION:2.0
PRODID:-//My Community Diary//iCal Event//EN
CALSCALE:GREGORIAN
METHOD:PUBLISH
BEGIN:VEVENT
UID:0e88a4fe-9038-480c-8e86-5acdb7b41e08
DTSTAMP:20260422T020203Z
DTSTART;VALUE=DATE:20260927
DTEND;VALUE=DATE:20260928
SUMMARY:Tallong Apple Day Festival
DESCRIPTION:A great day out for the whole family. Come and celebrate Tallong's rich apple orchard heritage\, home of the Big Apple\, with fun attractions\, heaps of craft and food stalls\, special events for children\, and competitions galore!\n\nWhipcracking\, medieval battles\, wood chopping\, pig racing\, pony rides\, fleece to garment\, bake-off\, photography competition\, car and bike show\, rock climbing wall\, bungee jumping\, live music\, puppet shows\, snake and reptiles\, Boral Free Kids Activity area and loads more! Plenty of food including toffee apples and apple pies. All parking will be in Tallong for the Apple Festival\, just follow the signage for the allocated space\, a gold coin donation is requested.\n\nAnd of course\, being an Apple Festival\, there will be lots of apples for sale. All proceeds go back into the community to fund projects within the Tallong region.\n\nMore information can be found on the Apple Festival website.\n\nProudly supported by Goulburn Mulwaree Council.\n\nEntry Cost\nAll tickets $5  - AUD5 Per Person (Over 5 years)\nChildren Under 5 years is free
LOCATION:\, 2 Memorial Drive\, Tallong\, NSW 2579\, NSW\, 2579
END:VEVENT
END:VCALENDAR
