BEGIN:VCALENDAR
VERSION:2.0
PRODID:-//My Community Diary//iCal Event//EN
CALSCALE:GREGORIAN
METHOD:PUBLISH
BEGIN:VEVENT
UID:b427018a-58c2-4abc-bc33-f19f5735291d
DTSTAMP:20260422T035741Z
DTSTART;VALUE=DATE:20260524
DTEND;VALUE=DATE:20260525
SUMMARY:Syrinx Women Sing
DESCRIPTION:Step into a more immersive concert experience at the Music Estuary\, Ballina. \n\nSyrinx Women Sing presents Light in Darkness-a compelling vocal program exploring themes of illumination\, shadow and reflection. Enhanced by the atmospheric sounds of David Kemp on marimba and Catharina Kemp on bass clarinet\, this performance invites listeners to engage with music in a deeply sensory way.\n\nRemoving visual distraction heightens the focus on sound\, texture and emotion\, allowing voices and instruments to resonate with greater intensity. The result is a contemplative\, transportive experience that unfolds slowly and thoughtfully\, encouraging audiences to listen differently.\n\nIdeal for adventurous music lovers and those seeking something beyond the conventional concert format\, Light in Darkness offers a powerful end-of-day experience-intimate\, reflective and quietly unforgettable.\n\nTurn down the lights. Turn up the listening.
LOCATION:\, 38 Norton Street\, Ballina\, NSW 2478\, NSW\, 2478
END:VEVENT
END:VCALENDAR
