BEGIN:VCALENDAR
VERSION:2.0
PRODID:-//My Community Diary//iCal Event//EN
CALSCALE:GREGORIAN
METHOD:PUBLISH
BEGIN:VEVENT
UID:5c032adb-c101-472f-8435-2090a2b17dbb
DTSTAMP:20260421T225609Z
DTSTART;VALUE=DATE:20260823
DTEND;VALUE=DATE:20260824
SUMMARY:Sydney's Annual Wedding Expo
DESCRIPTION:The Sydney Annual Wedding Expo is the largest wedding expo in Australia. Located at the well-known Sydney Olympic Park just a quick drive from Sydney CBD and Parramatta CBD making it the perfect location for all couples getting married in Sydney. With over 150 vendors\, from the greater Sydney region. \n\nThey love the local\, creative and trendy vibe that the Sydney Bridal Expo brings. Full of colour\, inspiration\, fun and great live entertainment – the Sydney Annual Wedding Expo is an event not to be missed.\n\nThe hand-picked creative vendors include an array of florist\, bridal gowns\, photography\, invitations\, wedding cars\, hens parties\, makeup\, fitness\, men's suits\, shoes\, videography\, reception venues\, honeymoon\, bridal favours\, candy buffets\, wedding cakes\, bridal jewellery\, wedding planners\, marriage celebrants and wedding stylist.
LOCATION:\, Grand Parade\, Sydney Olympic Park\, NSW 2127\, NSW\, 2127
END:VEVENT
END:VCALENDAR
