BEGIN:VCALENDAR
VERSION:2.0
PRODID:-//My Community Diary//iCal Event//EN
CALSCALE:GREGORIAN
METHOD:PUBLISH
BEGIN:VEVENT
UID:ae437b08-c893-444c-88d1-b627e93eb624
DTSTAMP:20260422T005011Z
DTSTART;VALUE=DATE:20271010
DTEND;VALUE=DATE:20271011
SUMMARY:Sydney to Auckland Ocean Yacht Race
DESCRIPTION:The race of a lifetime. Royal Prince Alfred Yacht Club\, together with the Royal Akarana Yacht Club\, invite competitors to participate in the Sydney to Auckland Ocean Yacht Race 2027.\n\nThe race will start in Sydney Harbour and finish in Auckland Harbour. This challenging 1\,250 nautical-mile (nm) Category 1 race is open to offshore cruising and racing yachts\, superyachts and ocean-racing multihulls or  - Rally! Cruise your way to Auckland.\n\nJoin the race or watch the fleet sail out of Sydney Harbour as they cross the ditch to New Zealand.
LOCATION:\, 16 Mitala Street\, Newport\, NSW 2106\, NSW\, 2106
RRULE:FREQ=DAILY;INTERVAL=1;UNTIL=20271012T000000Z
END:VEVENT
END:VCALENDAR
