BEGIN:VCALENDAR
VERSION:2.0
PRODID:-//My Community Diary//iCal Event//EN
CALSCALE:GREGORIAN
METHOD:PUBLISH
BEGIN:VEVENT
UID:59c55337-03b1-4f5b-bc2a-f3f347c52fac
DTSTAMP:20260421T205443Z
DTSTART;VALUE=DATE:20260613
DTEND;VALUE=DATE:20260614
SUMMARY:Sydney Milky Way Editing Masterclass
DESCRIPTION:Elevate your Milky Way Landscape Photography on the Milky Way Editing Masterclass.\n\nYou'll benefit from personalised attention\, real-time feedback\, the opportunity to ask questions and receive guidance specific to your own images. This will provide you with the skills and confidence needed to take your Milky Way landscape photography to the next level.\n\nDesigned for photographers of all skill levels\, the Masterclass aims to provide you with the knowledge and techniques necessary to transform your RAW images into breathtaking astrophotographs.\n\nDuring our full day session\, you'll receive expert guidance with industry leading astrophotographer\, David Magro. Whether you're looking to refine your editing workflow\, master advanced techniques\, or simply take your Milky Way photography to new heights\, the Editing Masterclass will provide you with the insights you need to improve your editing.\n\nEntry Cost\nAll tickets $547 
LOCATION:\, 8 Brocklehurst Ln\, Kingsgrove\, NSW 2208\, NSW\, 2208
END:VEVENT
END:VCALENDAR
