BEGIN:VCALENDAR
VERSION:2.0
PRODID:-//My Community Diary//iCal Event//EN
CALSCALE:GREGORIAN
METHOD:PUBLISH
BEGIN:VEVENT
UID:f0e7648b-6514-4830-93ba-c3c9586ed4a3
DTSTAMP:20260422T021758Z
DTSTART;VALUE=DATE:20260807
DTEND;VALUE=DATE:20260808
SUMMARY:Sydney Comedy Festival Showcase
DESCRIPTION:Expertly curated and lovingly presented\, the Showcase will feature some of the Festival's hottest acts live on stage for an incredible two hours of hard-hitting laughter. Boasting a line-up of veteran favourites and some of the freshest emerging talents\, this jam-packed night of pure entertainment will leave you sore from belly laughs.\n\nSo call your pals and grab your tickets to the funniest night of entertainment you will see all year – don't miss out on a huge night of laughs!\n\nLine up to be advised closer to the event.
LOCATION:\, 39 Lake Street\, Warners Bay\, NSW 2282\, NSW\, 2282
END:VEVENT
END:VCALENDAR
