BEGIN:VCALENDAR
VERSION:2.0
PRODID:-//My Community Diary//iCal Event//EN
CALSCALE:GREGORIAN
METHOD:PUBLISH
BEGIN:VEVENT
UID:09b6065f-6c0e-46e3-a8c8-d7824e925e14
DTSTAMP:20260422T005138Z
DTSTART;VALUE=DATE:20260723
DTEND;VALUE=DATE:20260724
SUMMARY:Sydney Comedy Festival Showcase
DESCRIPTION:The Sydney Comedy Festival Showcase tour will be tearing up the freeways of Australia to bring the best of the 2026 Festival!\n\nExpertly curated and lovingly presented\, the Showcase will feature some of the Festival's hottest acts live on stage for an incredible two hours of hard-hitting laughter. Boasting a line-up of veteran favourites and some of the freshest emerging talents\, this jam-packed night of pure entertainment will leave you sore from belly laughs!\n\nEntry Cost\nAll tickets $40  - Adult $45.00\nMember $40.00\nGroup 4+ $59.00
LOCATION:\, Burns Way\, Wagga Wagga\, NSW 2650\, NSW\, 2650
END:VEVENT
END:VCALENDAR
