BEGIN:VCALENDAR
VERSION:2.0
PRODID:-//My Community Diary//iCal Event//EN
CALSCALE:GREGORIAN
METHOD:PUBLISH
BEGIN:VEVENT
UID:20e2bb26-af61-4972-959a-28c4afef0c51
DTSTAMP:20260422T015802Z
DTSTART;VALUE=DATE:20260510
DTEND;VALUE=DATE:20260511
SUMMARY:Sydney Comedy Festival
DESCRIPTION:The Sydney Comedy Festival is Sydney's biggest annual comedy event\, running for five weeks between April and May. \n\nThe Festival kicks off in grand style with lavish gala events: the Sydney Comedy Festival Gala at the Sydney Opera House\, Enmore Theatre\, The Concourse Chatswood\, The Pavilion PAC Sutherland and Riverside Theatres in Parramatta.\n\nThe Festival program features performances from the finest Australian acts\, the biggest international stars and the most promising emerging talent offering up everything from stand up to sketch\, satire\, impro\, musical\, absurdist\, theatre\, magic and kids comedy.\n\nEntry Cost\nAll tickets $0  - Ticket prices range\, dependant on the event.
LOCATION:\, 105 Victoria Road\, Marrickville\, NSW 2204\, NSW\, 2204
RRULE:FREQ=DAILY;INTERVAL=1;UNTIL=20260512T000000Z
END:VEVENT
END:VCALENDAR
