BEGIN:VCALENDAR
VERSION:2.0
PRODID:-//My Community Diary//iCal Event//EN
CALSCALE:GREGORIAN
METHOD:PUBLISH
BEGIN:VEVENT
UID:b7341344-d792-495d-b24a-09c77537cbb8
DTSTAMP:20260421T224315Z
DTSTART;VALUE=DATE:20260816
DTEND;VALUE=DATE:20260817
SUMMARY:Sydney Balalaika Orchestra
DESCRIPTION:The Sydney Balalaika Orchestra brings together musicians from many cultural backgrounds\, reflecting Australia's diverse society. The players share a deep love of Russian folk music\, where mellow and sometimes melancholy themes contrast with lively\, energetic melodies.
LOCATION:\, 106 Fern Street\, Gerringong\, NSW 2534\, NSW\, 2534
END:VEVENT
END:VCALENDAR
