BEGIN:VCALENDAR
VERSION:2.0
PRODID:-//My Community Diary//iCal Event//EN
CALSCALE:GREGORIAN
METHOD:PUBLISH
BEGIN:VEVENT
UID:45eb8380-5fe8-4d7d-aa36-fd5141e07d1c
DTSTAMP:20260422T015556Z
DTSTART;VALUE=DATE:20260501
DTEND;VALUE=DATE:20260502
SUMMARY:Sweet Retreat
DESCRIPTION:Sweet Retreat is a transformative 3-day\, 2-night getaway designed exclusively for women\, set in the stunning coastal surrounds of Sugar Beach Ranch in South Ballina.\n\nThis intimate retreat blends equine connection\, soulful workshops\, nourishing food and nature-based rituals to support rest\, renewal and meaningful reconnection. There is no horse riding — instead\, participants are guided through gentle equine wellness sessions with the ranch's intuitive herd\, encouraging calm\, presence and self-reflection.\n\nThe experience includes luxury glamping accommodation\, sound bowl healing\, meditation and movement sessions\, creative activities such as art therapy and beach rituals\, and time to unwind in the ranch's expansive natural setting. Guests can enjoy sunrise meditation walks\, ocean dips\, and access to the property's 60-acre nature playground and 15-metre magnesium pool.\n\nHighlights also include a bonfire ceremony under the stars\, tree planting\, symbolic dove releases\, and a formal beachside dinner (weather permitting).\n\nPlaces are limited to a maximum of 10 participants. Bookings are essential via the ticket link.
LOCATION:\, 259 Keith Hall Ln\, Keith Hall\, NSW 2478\, NSW\, 2478
RRULE:FREQ=DAILY;INTERVAL=1;UNTIL=20260503T000000Z
END:VEVENT
END:VCALENDAR
