BEGIN:VCALENDAR
VERSION:2.0
PRODID:-//My Community Diary//iCal Event//EN
CALSCALE:GREGORIAN
METHOD:PUBLISH
BEGIN:VEVENT
UID:3fc15194-ecc2-4573-b04d-b441780088c6
DTSTAMP:20260422T033853Z
DTSTART;VALUE=DATE:20260424
DTEND;VALUE=DATE:20260425
SUMMARY:Swamp Critters Live
DESCRIPTION:Bring your boots and your best sing-along voice — The Swamp Critters are rolling into Club Jamberoo with three hours of mud-thick groove and swamp-soaked energy.\n\nExpect rattling slide guitar\, gritty harmonica wails\, and that unmistakable Hammond-style organ that feels like riverbanks\, jukebox nights\, and back-porch parties all rolled into one. These legends don't just play songs — they pull you straight into the swamp with them.\n\nIt's the kind of night where strangers end up dancing together\, old favourites get a raw new twist\, and the bar keeps the cold drinks flowing while the band turns up the heat.\n\nThe Swamp Critters. Friday night. No cover. Big vibes.
LOCATION:\, 11 Allowrie Street\, Jamberoo\, NSW 2533\, NSW\, 2533
END:VEVENT
END:VCALENDAR
