BEGIN:VCALENDAR
VERSION:2.0
PRODID:-//My Community Diary//iCal Event//EN
CALSCALE:GREGORIAN
METHOD:PUBLISH
BEGIN:VEVENT
UID:d297728c-9e76-4948-85ad-3f71b61ee7d0
DTSTAMP:20260421T224326Z
DTSTART;VALUE=DATE:20270116
DTEND;VALUE=DATE:20270117
SUMMARY:Sussex Inlet Wellness Experiences
DESCRIPTION:Sussex Inlet Wellness Experiences connects visitors with a range of calming and restorative classes and activities in the coastal village of Sussex Inlet on the South Coast of New South Wales.\n\nThe initiative brings together local practitioners who offer thoughtful experiences designed to support relaxation and wellbeing. Visitors can discover massage therapy\, yoga\, stand up paddle boarding\, creative workshops and other wonderful experiences  delivered by experienced local businesses.\n\nMany experiences take place in peaceful natural settings surrounded by waterways\, bushland and ocean air. The slow rhythm of the region allows guests to unwind\, reconnect and create their own personalised wellness escape.\n\nSussex Inlet Wellness Experiences by Sussex Inlet Chamber of Commerce also helps visitors design bespoke wellness escapes by linking together accommodation\, wellness sessions and nature-based activities.. Each visit becomes an opportunity to step away from the everyday and experience the restorative atmosphere of this coastal community.
LOCATION:\, 175 Jacobs Drive\, Sussex Inlet\, NSW 2540\, NSW\, 2540
RRULE:FREQ=DAILY;INTERVAL=1;UNTIL=20270118T000000Z
END:VEVENT
END:VCALENDAR
