BEGIN:VCALENDAR
VERSION:2.0
PRODID:-//My Community Diary//iCal Event//EN
CALSCALE:GREGORIAN
METHOD:PUBLISH
BEGIN:VEVENT
UID:232975cf-8c26-45cf-8641-0555c38001c1
DTSTAMP:20260422T052221Z
DTSTART;VALUE=DATE:20260503
DTEND;VALUE=DATE:20260504
SUMMARY:Sunday Sketch Sessions at BRAG
DESCRIPTION:Head to Bathurst Regional Art Gallery (BRAG) every Sunday for a free\, self-guided sketch session in their current exhibitions!\n\nMaterials and stool provided\, no experience required!\n\nWe Are Studios: Acts of Inheritance\nActs of Inheritance presents new work from seventeen Disabled artists who explore identity as something lived\, layered and continually remade. \n\nWe Are Studios is a 100% Disability-led\, artist-run initiative empowering Disabled Western Sydney artists to thrive.\n\nThe project is supported by the New South Wales Government through Create NSW and by the Australian Government through Creative Australia\, its principal arts investment and advisory body.\n\nLiz Bryan: Pattern Recognition\nLiz Bryan is a visual artist and designer working across drawing\, painting\, textiles\, sculpture and digital media. Her practice is shaped by an ongoing interest in esoteric knowledge\, mythologies and ritual\, and engages with themes of womanhood\, place\, and the hidden or overlooked histories of feminine experience. Moving fluidly between art and craft\, Liz's work also reflects on the intersections of science\, mysticism and material knowledge.
LOCATION:\, 70 Keppel Street\, Bathurst\, NSW 2795\, NSW\, 2795
RRULE:FREQ=DAILY;INTERVAL=1;UNTIL=20260505T000000Z
END:VEVENT
END:VCALENDAR
