BEGIN:VCALENDAR
VERSION:2.0
PRODID:-//My Community Diary//iCal Event//EN
CALSCALE:GREGORIAN
METHOD:PUBLISH
BEGIN:VEVENT
UID:449dd131-6af5-4fc6-a7ab-d18e8daec044
DTSTAMP:20260422T035749Z
DTSTART;VALUE=DATE:20261122
DTEND;VALUE=DATE:20261123
SUMMARY:Sunday Sessions at The Rooftop Bar and Grill
DESCRIPTION:Join in on a Sunday Session at The Rooftop East each Sunday afternoon for live music and good vibes.\n\nNo bookings necessary. \n\nVisit the website for details on upcoming acts.
LOCATION:\, 87 Tallwood Avenue\, Mollymook Beach\, NSW 2539\, NSW\, 2539
RRULE:FREQ=DAILY;INTERVAL=1;UNTIL=20261124T000000Z
END:VEVENT
END:VCALENDAR
