BEGIN:VCALENDAR
VERSION:2.0
PRODID:-//My Community Diary//iCal Event//EN
CALSCALE:GREGORIAN
METHOD:PUBLISH
BEGIN:VEVENT
UID:9ab2428f-e682-43bc-b8e5-247f071ce260
DTSTAMP:20260422T021034Z
DTSTART;VALUE=DATE:20261101
DTEND;VALUE=DATE:20261102
SUMMARY:Sunday Sessions at The Rooftop Bar and Grill
DESCRIPTION:Join in on a Sunday Session at The Rooftop East each Sunday afternoon for live music and good vibes.\n\nNo bookings necessary. \n\nVisit the website for details on upcoming acts.
LOCATION:\, 87 Tallwood Avenue\, Mollymook Beach\, NSW 2539\, NSW\, 2539
RRULE:FREQ=DAILY;INTERVAL=1;UNTIL=20261103T000000Z
END:VEVENT
END:VCALENDAR
