BEGIN:VCALENDAR
VERSION:2.0
PRODID:-//My Community Diary//iCal Event//EN
CALSCALE:GREGORIAN
METHOD:PUBLISH
BEGIN:VEVENT
UID:18371365-7f3f-46e0-b3fd-ff65146cb08a
DTSTAMP:20260422T005239Z
DTSTART;VALUE=DATE:20260816
DTEND;VALUE=DATE:20260817
SUMMARY:Sunday Sessions at The Rooftop Bar and Grill
DESCRIPTION:Join in on a Sunday Session at The Rooftop East each Sunday afternoon for live music and good vibes.\n\nNo bookings necessary. \n\nVisit the website for details on upcoming acts.
LOCATION:\, 87 Tallwood Avenue\, Mollymook Beach\, NSW 2539\, NSW\, 2539
RRULE:FREQ=DAILY;INTERVAL=1;UNTIL=20260818T000000Z
END:VEVENT
END:VCALENDAR
