BEGIN:VCALENDAR
VERSION:2.0
PRODID:-//My Community Diary//iCal Event//EN
CALSCALE:GREGORIAN
METHOD:PUBLISH
BEGIN:VEVENT
UID:c293ebe6-e6e4-4a8c-888b-eca166d9382c
DTSTAMP:20260421T225555Z
DTSTART;VALUE=DATE:20260503
DTEND;VALUE=DATE:20260504
SUMMARY:Sunday Sessions at The Rooftop Bar and Grill
DESCRIPTION:Join in on a Sunday Session at The Rooftop East each Sunday afternoon for live music and good vibes.\n\nNo bookings necessary. \n\nVisit the website for details on upcoming acts.
LOCATION:\, 87 Tallwood Avenue\, Mollymook Beach\, NSW 2539\, NSW\, 2539
RRULE:FREQ=DAILY;INTERVAL=1;UNTIL=20260505T000000Z
END:VEVENT
END:VCALENDAR
