BEGIN:VCALENDAR
VERSION:2.0
PRODID:-//My Community Diary//iCal Event//EN
CALSCALE:GREGORIAN
METHOD:PUBLISH
BEGIN:VEVENT
UID:161ed881-3ba0-4db7-89c8-f8140cf63e6c
DTSTAMP:20260421T205411Z
DTSTART;VALUE=DATE:20260531
DTEND;VALUE=DATE:20260601
SUMMARY:Sunday Sessions
DESCRIPTION:Sunday sessions at the Goulburn Club is an opportunity to bring an instrument or just your voice to join a group sharing songs\, tunes\, stories and poetry.\n\nSunday Sessions focuses on traditional folk songs\, Australian and Celtic songs and Americana songs. Everyone is welcome to join in or listen with song sheets available online or people can lead and introduce new songs or tunes.
LOCATION:\, 19 Market Street\, Goulburn\, NSW 2580\, NSW\, 2580
RRULE:FREQ=DAILY;INTERVAL=1;UNTIL=20260602T000000Z
END:VEVENT
END:VCALENDAR
