BEGIN:VCALENDAR
VERSION:2.0
PRODID:-//My Community Diary//iCal Event//EN
CALSCALE:GREGORIAN
METHOD:PUBLISH
BEGIN:VEVENT
UID:ab5b1348-b271-4158-b24b-600d14a4eebf
DTSTAMP:20260421T222700Z
DTSTART;VALUE=DATE:20270130
DTEND;VALUE=DATE:20270131
SUMMARY:Sun Room
DESCRIPTION:Muloobinba/Newcastle based artist Dan Nelson is known for her luminous paintings. She sometimes thinks of them as light-filled rooms — spaces that both artist and viewer can enter and experience.\n\nHer series Sun Room follows this idea\, bringing together works that mediate between inner and outer worlds with brightness and hope. The paintings wander between still life and landscape\, offering the viewer solace and replenishment.
LOCATION:\, 230 High Street\, Maitland\, NSW 2320\, NSW\, 2320
RRULE:FREQ=DAILY;INTERVAL=1;UNTIL=20270201T000000Z
END:VEVENT
END:VCALENDAR
