BEGIN:VCALENDAR
VERSION:2.0
PRODID:-//My Community Diary//iCal Event//EN
CALSCALE:GREGORIAN
METHOD:PUBLISH
BEGIN:VEVENT
UID:87a759b0-0724-491f-938a-1ed5bfb928de
DTSTAMP:20260422T033737Z
DTSTART;VALUE=DATE:20270111
DTEND;VALUE=DATE:20270112
SUMMARY:Sun Room
DESCRIPTION:Muloobinba/Newcastle based artist Dan Nelson is known for her luminous paintings. She sometimes thinks of them as light-filled rooms — spaces that both artist and viewer can enter and experience.\n\nHer series Sun Room follows this idea\, bringing together works that mediate between inner and outer worlds with brightness and hope. The paintings wander between still life and landscape\, offering the viewer solace and replenishment.
LOCATION:\, 230 High Street\, Maitland\, NSW 2320\, NSW\, 2320
RRULE:FREQ=DAILY;INTERVAL=1;UNTIL=20270113T000000Z
END:VEVENT
END:VCALENDAR
