BEGIN:VCALENDAR
VERSION:2.0
PRODID:-//My Community Diary//iCal Event//EN
CALSCALE:GREGORIAN
METHOD:PUBLISH
BEGIN:VEVENT
UID:f405b0e0-562f-4816-b14e-b431761f0714
DTSTAMP:20260421T225639Z
DTSTART;VALUE=DATE:20261221
DTEND;VALUE=DATE:20261222
SUMMARY:Summer Solstice at the Australian Standing Stones
DESCRIPTION:A solstice occurs when the sun appears to reach its most northerly or southerly excursion relative to the equator.  \n\nSolstices occur twice a year - once in June and once in December.  For the southern hemisphere\, the summer solstice\, indicating the longest number of daylight hours\, is on or near to December 21.\n\nThe Australian Standing Stones Management Board will host the annual passing of the solar noon shadow across the marker plaque on this day.\n\nThis is a free public event and all are welcome to attend.
LOCATION:\, Watsons Drive\, Glen Innes\, NSW 2370\, NSW\, 2370
END:VEVENT
END:VCALENDAR
