BEGIN:VCALENDAR
VERSION:2.0
PRODID:-//My Community Diary//iCal Event//EN
CALSCALE:GREGORIAN
METHOD:PUBLISH
BEGIN:VEVENT
UID:d1e48c98-0637-4cc2-9d48-95dd15bb6e98
DTSTAMP:20260421T205616Z
DTSTART;VALUE=DATE:20261122
DTEND;VALUE=DATE:20261123
SUMMARY:Stress Free Christmas Feast Cooking Class
DESCRIPTION:Celebrate Christmas with a Food I Am Class showcasing the best of seasonal and local produce. Their menu has a mix of classics\, fresh Australian seafood and contemporary dishes to keep all of your family and friends well fed and happy over the festive season. Learn the chefs secret of doing most of the preparation ahead of time so minimum work is done on the day.\n\nClass includes tuition\, recipes and meals with regional wine\, beer or soft drinks.\n\nEntry Cost\nAll tickets $215 
LOCATION:\, 29 Kunzea Place\, Springvale\, NSW 2650\, NSW\, 2650
END:VEVENT
END:VCALENDAR
