BEGIN:VCALENDAR
VERSION:2.0
PRODID:-//My Community Diary//iCal Event//EN
CALSCALE:GREGORIAN
METHOD:PUBLISH
BEGIN:VEVENT
UID:b7ebfd06-6018-4d24-9933-722f16ae9c20
DTSTAMP:20260421T205435Z
DTSTART;VALUE=DATE:20260530
DTEND;VALUE=DATE:20260531
SUMMARY:Street Food Saturday
DESCRIPTION:As part of the Autumn Celebration of Food\, enjoy some of Matt's favourite Asian street eats\, listen to some classic tunes\, sip delicious cocktails and house brews. You can sit at the bar\, watch the woks fire and charcoal smoke or get comfy in a booth with friends and share a flavour-packed tasting menu.\n\nProudly supported by the Shoalhaven Food Network as part of the Autumn Celebration of Food.
LOCATION:\, 85 Tallwood Avenue\, Mollymook Beach\, NSW 2539\, NSW\, 2539
END:VEVENT
END:VCALENDAR
