BEGIN:VCALENDAR
VERSION:2.0
PRODID:-//My Community Diary//iCal Event//EN
CALSCALE:GREGORIAN
METHOD:PUBLISH
BEGIN:VEVENT
UID:63c04282-1d53-4d60-9dd1-39c4272a0a4f
DTSTAMP:20260422T005021Z
DTSTART;VALUE=DATE:20260613
DTEND;VALUE=DATE:20260614
SUMMARY:Street Beats and Eats in Huskisson
DESCRIPTION:As the sun sets over Jervis Bay\, the streets of Huskisson come alive with flavour\, rhythm and good vibes at Eat\, Sip and Stroll to the Beats – an evening of street food\, live music\, and family-friendly fun\, generously sponsored by Club Jervis Bay\n\nStroll under the stars with friends and family as you explore local cafes\, restaurants and food trucks dishing up delicious eats\, sip on regional wines and craft brews\, and enjoy a variety of live performances dotted throughout town. From smooth acoustic sets to lively street performers\, there's entertainment around every corner.\n\nWhether you're chasing a relaxed dinner\, a spontaneous dance in the street\, or just a great night out with the kids\, this event has something for everyone.\n\nProudly supported by The Shoalhaven Food Network as part of the Autumn Celebration of Food.
LOCATION:\, Owen Street\, Huskisson\, NSW 2540\, NSW\, 2540
END:VEVENT
END:VCALENDAR
