BEGIN:VCALENDAR
VERSION:2.0
PRODID:-//My Community Diary//iCal Event//EN
CALSCALE:GREGORIAN
METHOD:PUBLISH
BEGIN:VEVENT
UID:de25bcc8-08e7-406e-8c8b-37f528a7f934
DTSTAMP:20260421T210327Z
DTSTART;VALUE=DATE:20260510
DTEND;VALUE=DATE:20260511
SUMMARY:Steph Tisdell - Fat - Sydney
DESCRIPTION:Fat: Unapologetically unpacking the F-word that's always on everyone's mind. This isn't just a comedy show about weight\; it's a hilarious\, honest and sometimes uncomfortable exploration of the absurdities surrounding body image\, health and the complexities of living in a society that profits from everyone's insecurities.\n\nFat is a show about finding your true self\, even if that self is a little curvier than society says it should be. Expect laughs\, gasps and maybe even a few moments of self-reflection.
LOCATION:\, 118-132 Enmore Road\, Newtown\, NSW 2042\, NSW\, 2042
RRULE:FREQ=DAILY;INTERVAL=1;UNTIL=20260512T000000Z
END:VEVENT
END:VCALENDAR
