BEGIN:VCALENDAR
VERSION:2.0
PRODID:-//My Community Diary//iCal Event//EN
CALSCALE:GREGORIAN
METHOD:PUBLISH
BEGIN:VEVENT
UID:e04c2102-e786-4333-8656-bb873f874058
DTSTAMP:20260422T000656Z
DTSTART;VALUE=DATE:20260725
DTEND;VALUE=DATE:20260726
SUMMARY:Stay Weekend: Boyd
DESCRIPTION:Discover the life and art of Arthur Boyd across two inspiring days celebrating his creative legacy. Immerse yourself in the breathtaking riverscape that inspired Arthur Boyd and discover his deep connection to the land where he lived and worked over the later part of his life. \n\nEnjoy in-depth talks on the history of Bundanon and the Boyd legacy\, tours of the exhibition\, collection and Homestead\, a twilight feast with paired beverages\, the choice between a guided ecology bushwalk or an en plein air workshop with a professional artist\, and lunch on the historic Homestead grounds that Arthur and Yvonne called home for over twenty years.\n\nEntry Cost\nAll tickets $799 
LOCATION:\, 170 Riversdale Road\, Illaroo\, NSW 2540\, NSW\, 2540
RRULE:FREQ=DAILY;INTERVAL=1;UNTIL=20260727T000000Z
END:VEVENT
END:VCALENDAR
