BEGIN:VCALENDAR
VERSION:2.0
PRODID:-//My Community Diary//iCal Event//EN
CALSCALE:GREGORIAN
METHOD:PUBLISH
BEGIN:VEVENT
UID:41195b44-363f-46b2-a756-9b60ad57cf08
DTSTAMP:20260422T054321Z
DTSTART;VALUE=DATE:20260628
DTEND;VALUE=DATE:20260629
SUMMARY:Stained Glass Art Retreat - Beginners
DESCRIPTION:During this stained glass workshop weekend for beginners at the beautifully relaxing Fosterton Retreat you will make at least 2 beautiful suncatchers to take home with you (the last group made 5-6 pieces each).\nAll tools and materials provided.\nRefreshments included for all participants.\n\nAccommodation on-site - book separately. Places will be limited.
LOCATION:\, 208 Moylans Road\, Fosterton\, NSW 2420\, NSW\, 2420
RRULE:FREQ=DAILY;INTERVAL=1;UNTIL=20260630T000000Z
END:VEVENT
END:VCALENDAR
