BEGIN:VCALENDAR
VERSION:2.0
PRODID:-//My Community Diary//iCal Event//EN
CALSCALE:GREGORIAN
METHOD:PUBLISH
BEGIN:VEVENT
UID:2fd22f92-9fc3-40d9-aadb-5276e4861cf0
DTSTAMP:20260424T084012Z
DTSTART;VALUE=DATE:20261130
DTEND;VALUE=DATE:20261201
SUMMARY:St Andrew's Day Flag Lowering Gathering
DESCRIPTION:The St Andrew's Day Flag Lowering Gathering will be held in the garden of Crofter's Cottage at the Australian Standing Stones on St. Andrew's Day.\n\nIn honour of the Scottish National Day\, there will be a piper\, a toast to Scotland\, traditional Dundee cakes and a raffle drawn during the gathering\, supporting projects onsite at the Australian Standing Stones.\n\nIf it is raining\, this event will be held inside Crofters Cottage.
LOCATION:\, Watsons Drive\, Glen Innes\, NSW 2370\, NSW\, 2370
END:VEVENT
END:VCALENDAR
