BEGIN:VCALENDAR
VERSION:2.0
PRODID:-//My Community Diary//iCal Event//EN
CALSCALE:GREGORIAN
METHOD:PUBLISH
BEGIN:VEVENT
UID:9ed0d5a3-cf2e-47e0-bd70-5e7a29efe643
DTSTAMP:20260421T205527Z
DTSTART;VALUE=DATE:20260524
DTEND;VALUE=DATE:20260525
SUMMARY:Spoon Carving Workshop
DESCRIPTION:Come spend a casual afternoon with us for the opportunity to walk away not only with an amazing experience but also a beautiful wooden spoon made with your own hands! \n\nThe class is a relaxed 4 hour workshop including everything you need for the class.\n\nCreating something as fundamentally human as a wooden spoon using simple hand tools can be a satisfying experience.\n\nThis guided workshop will take you through the process of selecting materials and the relaxing process of making your own wooden spoon. After a safety briefing you will receive tools and materials. Then spend a few hours slowly carving a spoon as a small group.\n\nIncluded  is all materials required for the project on the day (spoon blank in wood\, sand paper\, food safe organic wood finish). Use of other hand tools\, based on your design (small axe\, saw\, chopping block\, vice\, clamps). Cut-resistant gloves for limited protection against the tools.  All instructions and support required on the day.\n\nThey also have spoon carving tools available for sale on the day should you decide to get some.\n\nEntry Cost\nAdult $249  - Only suitable for Adults\, over 16 years of age due to tools and safety understanding required.\nThe cost for the one-day workshop is AUD 249.
LOCATION:\, 13 Mitchell Road unit 4 (Entry from Chard Road)\, Brookvale\, NSW 2100\, NSW\, 2100
RRULE:FREQ=DAILY;INTERVAL=1;UNTIL=20260526T000000Z
END:VEVENT
END:VCALENDAR
