BEGIN:VCALENDAR
VERSION:2.0
PRODID:-//My Community Diary//iCal Event//EN
CALSCALE:GREGORIAN
METHOD:PUBLISH
BEGIN:VEVENT
UID:e2ed1091-ac4a-45d6-9dff-dce30d7af13c
DTSTAMP:20260422T015738Z
DTSTART;VALUE=DATE:20260910
DTEND;VALUE=DATE:20260911
SUMMARY:Spiral Gallery Members Exhibition
DESCRIPTION:The Gallery 2 is showcasing the varied talents and skills of Spiral Gallery Co-operative Members  with ceramics\, sculpture\, basket weaving\, jewellery\, clothing\, felting\, prints\, paintings\, handcrafted wood and knives.
LOCATION:\, 47 Church St\, Bega\, NSW 2550\, NSW\, 2550
RRULE:FREQ=DAILY;INTERVAL=1;UNTIL=20260912T000000Z
END:VEVENT
END:VCALENDAR
