BEGIN:VCALENDAR
VERSION:2.0
PRODID:-//My Community Diary//iCal Event//EN
CALSCALE:GREGORIAN
METHOD:PUBLISH
BEGIN:VEVENT
UID:3b8520f2-4cfa-43ca-80ad-a8c393c76d6c
DTSTAMP:20260421T222354Z
DTSTART;VALUE=DATE:20260827
DTEND;VALUE=DATE:20260828
SUMMARY:Spiral Gallery Members Exhibition
DESCRIPTION:The Gallery 2 is showcasing the varied talents and skills of Spiral Gallery Co-operative Members  with ceramics\, sculpture\, basket weaving\, jewellery\, clothing\, felting\, prints\, paintings\, handcrafted wood and knives.
LOCATION:\, 47 Church St\, Bega\, NSW 2550\, NSW\, 2550
RRULE:FREQ=DAILY;INTERVAL=1;UNTIL=20260829T000000Z
END:VEVENT
END:VCALENDAR
