BEGIN:VCALENDAR
VERSION:2.0
PRODID:-//My Community Diary//iCal Event//EN
CALSCALE:GREGORIAN
METHOD:PUBLISH
BEGIN:VEVENT
UID:448b1c65-edb8-41e2-8b4b-96f0cbe6b64a
DTSTAMP:20260422T035801Z
DTSTART;VALUE=DATE:20260702
DTEND;VALUE=DATE:20260703
SUMMARY:Spiral Gallery Members Exhibition
DESCRIPTION:The Gallery 2 is showcasing the varied talents and skills of Spiral Gallery Co-operative Members  with ceramics\, sculpture\, basket weaving\, jewellery\, clothing\, felting\, prints\, paintings\, handcrafted wood and knives.
LOCATION:\, 47 Church St\, Bega\, NSW 2550\, NSW\, 2550
RRULE:FREQ=DAILY;INTERVAL=1;UNTIL=20260704T000000Z
END:VEVENT
END:VCALENDAR
