BEGIN:VCALENDAR
VERSION:2.0
PRODID:-//My Community Diary//iCal Event//EN
CALSCALE:GREGORIAN
METHOD:PUBLISH
BEGIN:VEVENT
UID:21c5f587-dd3a-4132-8d68-bd71f4b032df
DTSTAMP:20260422T064721Z
DTSTART;VALUE=DATE:20260619
DTEND;VALUE=DATE:20260620
SUMMARY:Spiral Gallery Members Exhibition
DESCRIPTION:The Gallery 2 is showcasing the varied talents and skills of Spiral Gallery Co-operative Members  with ceramics\, sculpture\, basket weaving\, jewellery\, clothing\, felting\, prints\, paintings\, handcrafted wood and knives.
LOCATION:\, 47 Church St\, Bega\, NSW 2550\, NSW\, 2550
RRULE:FREQ=DAILY;INTERVAL=1;UNTIL=20260621T000000Z
END:VEVENT
END:VCALENDAR
