BEGIN:VCALENDAR
VERSION:2.0
PRODID:-//My Community Diary//iCal Event//EN
CALSCALE:GREGORIAN
METHOD:PUBLISH
BEGIN:VEVENT
UID:1d455e55-2cd5-4edc-885f-f7c0f0f64fb5
DTSTAMP:20260422T033620Z
DTSTART;VALUE=DATE:20260615
DTEND;VALUE=DATE:20260616
SUMMARY:Spiral Gallery Members Exhibition
DESCRIPTION:The Gallery 2 is showcasing the varied talents and skills of Spiral Gallery Co-operative Members  with ceramics\, sculpture\, basket weaving\, jewellery\, clothing\, felting\, prints\, paintings\, handcrafted wood and knives.
LOCATION:\, 47 Church St\, Bega\, NSW 2550\, NSW\, 2550
RRULE:FREQ=DAILY;INTERVAL=1;UNTIL=20260617T000000Z
END:VEVENT
END:VCALENDAR
