BEGIN:VCALENDAR
VERSION:2.0
PRODID:-//My Community Diary//iCal Event//EN
CALSCALE:GREGORIAN
METHOD:PUBLISH
BEGIN:VEVENT
UID:97e058a2-5730-4824-99a8-b0d0d986b199
DTSTAMP:20260424T155033Z
DTSTART:20240412T070000Z
DTEND:20240412T180000Z
SUMMARY:Shane Muspratt Cup
DESCRIPTION:The Shane Muspratt Cup is an annual Under 12’s Junior Rugby League Carnival hosted by the Burdekin Roosters Junior Rugby League Club at Rugby Park\, Wickham Street Ayr.
LOCATION:\, 144 Wickham Street\, Ayr\, QLD 4807\, QLD\, 4807
RRULE:FREQ=DAILY;INTERVAL=1;UNTIL=20240414T000000Z
END:VEVENT
END:VCALENDAR
