BEGIN:VCALENDAR
VERSION:2.0
PRODID:-//My Community Diary//iCal Event//EN
CALSCALE:GREGORIAN
METHOD:PUBLISH
BEGIN:VEVENT
UID:4be823a6-6060-4fae-a339-b42ef31d6c10
DTSTAMP:20260422T002834Z
DTSTART;VALUE=DATE:20261217
DTEND;VALUE=DATE:20261218
SUMMARY:Sparkling Streets  Christmas Party
DESCRIPTION:Get ready to celebrate the most magical night of the year at Cootamundra's Sparkling Streets Christmas Party. Parker Street will shimmer with festive lights\, live music\, and the joyful buzz of community spirit as we kick off the holiday season in true Cootamundra style.\n\nFrom 5.00pm\, the main street will transform into a Christmas wonderland filled with vibrant market stalls\, delicious food\, sweet treats\, handmade crafts\, and unique gifts—perfect for festive shopping. \n\nLocal stores will stay open late\, giving everyone the chance to browse\, buy\, and enjoy the warm\, welcoming atmosphere.\n\nThe evening will be packed with live entertainment\, children's rides\, roving performers\, and dancing presentations from our talented local dance schools\, showcasing the incredible creativity and spirit of our young performers. Keep an eye out for a visit from Santa Claus.\n\nThere will be laughter\, music\, and plenty of holiday cheer as families\, friends\, and visitors come together to celebrate under the sparkling lights. \n\nThe Sparkling Streets Christmas Party is one of Cootamundra's most beloved annual events—an unforgettable night of fun\, community\, and Christmas magic in the heart of town.
LOCATION:\, between Wallendoon & Adams Streets\, Cootamundra\, NSW 2590\, NSW\, 2590
END:VEVENT
END:VCALENDAR
