BEGIN:VCALENDAR
VERSION:2.0
PRODID:-//My Community Diary//iCal Event//EN
CALSCALE:GREGORIAN
METHOD:PUBLISH
BEGIN:VEVENT
UID:5b7d58bf-0747-4ab7-a5da-606d387efe5a
DTSTAMP:20260421T224111Z
DTSTART;VALUE=DATE:20270228
DTEND;VALUE=DATE:20270301
SUMMARY:Sow Good
DESCRIPTION:This summer\, visitors to the NSW South Coast are invited to experience something a little different.\n\nSow Good\, a free two-day community festival\, will transform a local Ulladulla nursery into a destination celebrating nature\, creativity and connection.\n\nSow Good offers an immersive festival experience set among greenery\, open space and coastal culture reflecting the relaxed\, creative spirit the region is known for.\n\nDesigned to complement a South Coast getaway\, the festival brings together live music\, local food\, community experiences and wellness through nature\, encouraging visitors to slow down\, explore\, and connect with place.\n\nMusic across the two days features a growing lineup of local and regional artists. Alongside the music and programming\, the festival will feature pop-up food from local favourites Gwylo and Lagom\, giving visitors a taste of the region's much-loved local food scene.\n\nSow Good\, Ulladulla is proudly supported by the NSW Government through its tourism and major events agency\, Destination NSW.\n\nWith beaches\, coastal walks\, cafes and towns on its doorstep\, Sow Good offers visitors another reason to plan a South Coast weekend — one rooted in community\, creativity and connection to place.
LOCATION:\, 157 Warden Street\, Ulladulla\, NSW 2539\, NSW\, 2539
RRULE:FREQ=DAILY;INTERVAL=1;UNTIL=20270302T000000Z
END:VEVENT
END:VCALENDAR
