BEGIN:VCALENDAR
VERSION:2.0
PRODID:-//My Community Diary//iCal Event//EN
CALSCALE:GREGORIAN
METHOD:PUBLISH
BEGIN:VEVENT
UID:7ff31bd3-fe0d-4b97-b5bd-51eef5d0eb57
DTSTAMP:20260422T022607Z
DTSTART;VALUE=DATE:20260504
DTEND;VALUE=DATE:20260505
SUMMARY:South Wagga Rotary Showcase
DESCRIPTION:Curious about Rotary and the difference it makes in our community and beyond? Join them for an informal showcase evening and discover what South Wagga Rotary is all about.\n\nThis relaxed event is designed for people who may be interested in getting more involved locally\, expanding their networks\, or contributing to meaningful community projects. Guests will enjoy a welcoming atmosphere\, light canapés and the opportunity to meet members of South Wagga Rotary in a friendly\, social setting.\n\nThroughout the evening\, Rotarians will share short presentations offering insight into the club's work both locally and internationally. Visitors will hear about community initiatives happening right here in Wagga Wagga\, as well as Rotary's global humanitarian efforts through programs such as Rotary Australia World Community Service (RAWCS).\n\nMembers will also share personal stories about why they joined Rotary and what being involved looks like in practice — including how membership can fit alongside busy work and family lives.\n\nThe showcase is a chance to ask questions\, meet like-minded people and learn how Rotary brings together individuals who want to make a positive impact in their community.\n\nThere is no obligation to join — simply come along\, enjoy the evening and see whether Rotary might be the right fit for you.
LOCATION:\, Fernleigh Road\, Glenfield Park\, NSW 2650\, NSW\, 2650
END:VEVENT
END:VCALENDAR
