BEGIN:VCALENDAR
VERSION:2.0
PRODID:-//My Community Diary//iCal Event//EN
CALSCALE:GREGORIAN
METHOD:PUBLISH
BEGIN:VEVENT
UID:cd1a5a29-9ae1-40d0-9554-dfda41f617a4
DTSTAMP:20260422T054232Z
DTSTART;VALUE=DATE:20260726
DTEND;VALUE=DATE:20260727
SUMMARY:South Coast Timber Eden Cup Race Day
DESCRIPTION:Head to the track for South Coast Timber Eden Cup Race Day! \n\nIt is a TAB meet\, bars\, food with free buses to and from the track with pick-up times and locations on the website.\n\nProudly sponsored by South Coast Timber\, Eden Sports and Recreation Club\, Eden Tyre Power\, Coachmans Motel Eden\, South Coast Fish Processors\, Great Southern Inn and ARV Caravans\n\nEntry Cost\nAdult $15  - Under 18 free\, Concession AUD10
LOCATION:\, 1695 Sapphire Coast Drive\, Wallagoot\, NSW 2550\, NSW\, 2550
END:VEVENT
END:VCALENDAR
