BEGIN:VCALENDAR
VERSION:2.0
PRODID:-//My Community Diary//iCal Event//EN
CALSCALE:GREGORIAN
METHOD:PUBLISH
BEGIN:VEVENT
UID:264e9753-241f-4f7a-83fc-f730aa0d09d4
DTSTAMP:20260422T033641Z
DTSTART;VALUE=DATE:20260830
DTEND;VALUE=DATE:20260831
SUMMARY:South Coast Ceramics Market
DESCRIPTION:The South Coast Ceramics Market celebrates the artistry\, heritage and beauty of handmade ceramics on the South Coast. \n\nThey're connecting over 30 local potters\, sculptors and passionate makers in a beautifully curated heritage space\, The Co-Op Gerringong. Visitors can discover\, connect and take home meaningful handmade ceramics. From wheel thrown ceramics\, hand built forms to sculptural vessels\, every piece tells a story shaped by the earth and the creative hands behind it. \n\nThe Co-Op Gerringong\, once the hub of the local dairying industry\, this beautifully restored industrial building will once again bring the community together for this South Coast Ceramics Market.\n\nEntry Cost\nAll tickets $1  - Entry fee - gold coin donation
LOCATION:\, 18 Belinda Street\, Gerringong\, NSW 2534\, NSW\, 2534
END:VEVENT
END:VCALENDAR
