BEGIN:VCALENDAR
VERSION:2.0
PRODID:-//My Community Diary//iCal Event//EN
CALSCALE:GREGORIAN
METHOD:PUBLISH
BEGIN:VEVENT
UID:90bb9e7a-9450-46b2-8135-59779c17c2aa
DTSTAMP:20260422T021835Z
DTSTART;VALUE=DATE:20260510
DTEND;VALUE=DATE:20260511
SUMMARY:Soul'd at Shaws Bay Hotel
DESCRIPTION:Soul'd will take to the stage at the Shaws Bay Hotel  for a special Mother's Day Sunday Session\, the band will deliver an afternoon of smooth\, soulful tunes in the relaxed surrounds of the beer garden.\n\nWith free entry\, this live music event offers the perfect setting to celebrate Mother's Day\, combining great entertainment with a laid-back coastal atmosphere. Guests can settle in early\, with all-day dining available from midmorning\, making it easy to enjoy a long lunch before the music begins.\n\nWhether treating Mum or simply soaking up the Sunday vibes\, Soul'd promises an enjoyable and uplifting live performance in one of Ballina's favourite waterfront venues.
LOCATION:\, 3 Brighton Street\, East Ballina\, NSW 2478\, NSW\, 2478
END:VEVENT
END:VCALENDAR
