BEGIN:VCALENDAR
VERSION:2.0
PRODID:-//My Community Diary//iCal Event//EN
CALSCALE:GREGORIAN
METHOD:PUBLISH
BEGIN:VEVENT
UID:cff2d8a9-e55b-4ce8-a9e0-5278f93deed5
DTSTAMP:20260421T211540Z
DTSTART;VALUE=DATE:20261024
DTEND;VALUE=DATE:20261025
SUMMARY:SONIDO Andean & Latin American Roots
DESCRIPTION:Home-grown sounds capturing the magic of Latin America. Presented in association with Musica Viva Australia and Lake Mac Arts.\n\nSonido is one of Australia's longest-lived and most renowned exponents of Latin American folkloric music. Playing a repertoire of original songs made in Australia\, their multi-instrumentalist line up entrances audiences with the magic of the sounds of Latin America. \n\nFormed in 1977 playing traditional Andean music\, with instruments like the charango and zampoña\, a new generation of musicians took the mantle in the 1990s\, injecting broader and more modern influences\, whilst staying true to their roots of Latin American traditional sounds. Featuring over 40 instruments\, their concerts journey through the South American Andes (charangos and panpipes) through to the Caribbean with the infectious rhythms of congas\, bass and piano.\n\nTo these traditional sounds they bring a unique spin that comes from being born and raised in Sydney\, influenced by the music of their home\, as well as the poetry\, sounds and rhythms of their heritage. It is traditional music of a place on no map\, a folklore in search of a country.
LOCATION:\, Lake Street\, Warners Bay\, NSW 2282\, NSW\, 2282
END:VEVENT
END:VCALENDAR
