BEGIN:VCALENDAR
VERSION:2.0
PRODID:-//My Community Diary//iCal Event//EN
CALSCALE:GREGORIAN
METHOD:PUBLISH
BEGIN:VEVENT
UID:de060ca7-8ecd-4c9c-96ff-f37d0d0ddc98
DTSTAMP:20260423T140348Z
DTSTART;VALUE=DATE:20260614
DTEND;VALUE=DATE:20260615
SUMMARY:Some Like It Hot
DESCRIPTION:After witnessing a Mafia murder\, slick saxophone player Joe (Tony Curtis) and his long-suffering friend Jerry (Jack Lemmon) come up with a quick plan to save their lives. Disguised as women\, they join an all-female jazz band and board a train bound for sunny Florida. While Joe pretends to be a millionaire to win the heart of the band's alluring singer\, Sugar (Marilyn Monroe)\, Jerry finds himself the target of a real millionaire (Joe E. Brown) as the mobsters close in.\n\nPresented by Southern Tablelands Arts as part of STA Screen 2026\n\nEntry Cost\nAll tickets $5  - Adult	                $12\nQ Member	$10\nU16	                $5
LOCATION:\, 253 Crawford Street\, Queanbeyan\, NSW 2620\, NSW\, 2620
END:VEVENT
END:VCALENDAR
