BEGIN:VCALENDAR
VERSION:2.0
PRODID:-//My Community Diary//iCal Event//EN
CALSCALE:GREGORIAN
METHOD:PUBLISH
BEGIN:VEVENT
UID:38229d3e-536f-425e-83fc-6afc8daa0f27
DTSTAMP:20260421T225721Z
DTSTART;VALUE=DATE:20261122
DTEND;VALUE=DATE:20261123
SUMMARY:Snowy Valleys Markets
DESCRIPTION:The Snowy Valleys Markets are held in Tumut NSW and are a collection of local and regional market stalls from produce\, food to fashion and craft\, find a collection of handmade gems and gourmet eats.\n\nEvery Easter Friday and Saturday\, 10am to 4pm\n3rd full weekend in November each year\, 10am to 4pm.
LOCATION:\, Broughton St\, Tumut\, NSW 2720\, NSW\, 2720
RRULE:FREQ=DAILY;INTERVAL=1;UNTIL=20261124T000000Z
END:VEVENT
END:VCALENDAR
