BEGIN:VCALENDAR
VERSION:2.0
PRODID:-//My Community Diary//iCal Event//EN
CALSCALE:GREGORIAN
METHOD:PUBLISH
BEGIN:VEVENT
UID:051b18e0-59a6-4a6d-b88b-0e206e7ccfb6
DTSTAMP:20260421T224308Z
DTSTART;VALUE=DATE:20261114
DTEND;VALUE=DATE:20261115
SUMMARY:Snake Gully Cup Carnival
DESCRIPTION:Taking its name from the famous “Dad and Dave” radio program\, the popularity\, prize money and prestige of the Snake Gully Cup Carnival has grown dramatically in recent years\, with thousands of racegoers converging each November on the picturesque Gundagai racecourse.\n\nThe Gundagai Adelong Racing Club is excited for this year's Snake Gully Cup Carnival! The day is also about fashion\, hats and racing glamour- what racing carnival would be complete without Fashions on the Field.
LOCATION:\, O I Bell Drive\, Gundagai\, NSW 2722\, NSW\, 2722
RRULE:FREQ=DAILY;INTERVAL=1;UNTIL=20261116T000000Z
END:VEVENT
END:VCALENDAR
