BEGIN:VCALENDAR
VERSION:2.0
PRODID:-//My Community Diary//iCal Event//EN
CALSCALE:GREGORIAN
METHOD:PUBLISH
BEGIN:VEVENT
UID:49fd6e45-da68-45a4-bc65-050363b7a9af
DTSTAMP:20260421T211520Z
DTSTART;VALUE=DATE:20260503
DTEND;VALUE=DATE:20260504
SUMMARY:Smoker Sundays at the Federal Hotel
DESCRIPTION:Head to The Feddy Hotel every second Sunday to finish off the weekend in style.\n\nThey will be cooking up this delicious treat every fortnight with different meats\, sides and sauces to keep things spicy.\n\nThey will also have live music\, so to find out who is playing\, make sure to follow The Feddy Hotel.
LOCATION:\, Main Street\, Alstonville\, NSW 2477\, NSW\, 2477
RRULE:FREQ=DAILY;INTERVAL=1;UNTIL=20260505T000000Z
END:VEVENT
END:VCALENDAR
