BEGIN:VCALENDAR
VERSION:2.0
PRODID:-//My Community Diary//iCal Event//EN
CALSCALE:GREGORIAN
METHOD:PUBLISH
BEGIN:VEVENT
UID:ee017baf-4e4c-487a-8be0-bc2d836d4ae0
DTSTAMP:20260422T035802Z
DTSTART;VALUE=DATE:20260422
DTEND;VALUE=DATE:20260423
SUMMARY:Slava Grigoryan & Al Slavik
DESCRIPTION:Australian guitarist Slava Grigoryan and Austrian bassist Al Slavik re-unite for an Australian tour celebrating the release of their 3rd album 'And so\, it turns' A chance meeting in London in the mid-nineties led to a strong personal and musical bond between Australia's premier classical guitarist and an Austrian electric bass player more ensconced in the pop/rock world of the time.\n\nWhat could possibly go wrong?.....nothing as it turns out.\n\nRegarded as a wizard of the guitar\, Slava Grigoryan has forged a prolific reputation as a classical guitar virtuoso.  Collaborations have played a huge part in Grigoryan's career\, most notable of these are in the trio with legendary USA guitarist Ralph Towner and Austrian guitarist Wolfgang Muthspiel and the duo with brother Leonard Grigoryan.\n\nAl Slavik is an LA-based composer and producer\, known especially for his work on the electric bass. Originally from Vienna\, he has built a career that spans pop\, rock\, and jazz\, both as a solo artist and in collaboration with other well-known musicians. As a session musician Slavik has recorded and performed with European and international artists\, including Alphaville\, Adrian Belew\, and with band members from Depeche Mode\, Sting\, Level 42 and many others.\n\nEntry Cost\nAdult $49 
LOCATION:\, 85 Monaro Street\, Queanbeyan\, NSW 2620\, NSW\, 2620
END:VEVENT
END:VCALENDAR
