BEGIN:VCALENDAR
VERSION:2.0
PRODID:-//My Community Diary//iCal Event//EN
CALSCALE:GREGORIAN
METHOD:PUBLISH
BEGIN:VEVENT
UID:9a0f2b9f-8563-4931-af81-1c0ed58393f6
DTSTAMP:20260421T224245Z
DTSTART;VALUE=DATE:20260424
DTEND;VALUE=DATE:20260425
SUMMARY:Sky\, Earth\, Water
DESCRIPTION:Sky\, Earth\, Water explores Rosalie Gascoigne's connection to the material landscape\, alongside new commissions by leading First Nations artists Lorraine Connelly-Northey\, Janet Fieldhouse and Glenda Nicholls.\n\nTogether\, these parallel presentations offer a powerful dialogue across generations and perspectives\, celebrating the enduring role of landscape\, memory\, and material in shaping artists expression.\n\nGascoigne's works evoke massed white clouds\, snaking bodies of water\, and weathered grey and golden expanses inspired by the wheat fields of the Monaro region of south-eastern New South Wales. This exhibition illuminates the ongoing evolution of Gascoigne's practice\, which centered on the resonances between found industrially-produced materials and the Australian landscape. From smaller experimental studies through to some of her brightest\, most iconic works\, Sky\, Earth\, Water presents Gascoigne's unique\, evocative vision.\n\nExtending out from Gascoigne's works\, the exhibition features new commissions by leading First Nations artists created in response to Bundanon's unique natural environment\, and the respective homelands of the artists. These works draw on longstanding cultural knowledge\, offering multiple-perspectives on the practice of site-responsive art-making.\n\nThe exhibition will present over 20 key works on loan from major institutions including the Art Gallery of New South Wales\, the National Gallery of Australia\, the National Gallery of Victoria\, Heide Museum of Modern Art\, TarraWarra Museum of Art and from private collections.\n\nWith thanks to exhibition Supporting Patrons John Curtis AM & Anna Curtis\n\nEntry Cost\nAll tickets $0  - $12 Concession\n$18 General Admissions\nFREE Children under 12
LOCATION:\, 170 Riversdale Road\, Illaroo\, NSW 2540\, NSW\, 2540
RRULE:FREQ=DAILY;INTERVAL=1;UNTIL=20260426T000000Z
END:VEVENT
END:VCALENDAR
