BEGIN:VCALENDAR
VERSION:2.0
PRODID:-//My Community Diary//iCal Event//EN
CALSCALE:GREGORIAN
METHOD:PUBLISH
BEGIN:VEVENT
UID:36bfbe94-796b-473b-8219-f0b270dbbca8
DTSTAMP:20260422T001005Z
DTSTART;VALUE=DATE:20260502
DTEND;VALUE=DATE:20260503
SUMMARY:Singleton Firelight
DESCRIPTION:Experience the warmth and wonder of Firelight\, Singleton's signature Autumn event\, lighting up the Civic Precinct with stunning lantern displays\, live entertainment\, and family-friendly activities. Embrace the chill and enjoy a magical evening celebrating art\, culture\, and community.\n\nThere's something for everyone\, with free kids' activities\, circus workshops\, jumping castle\, market stalls\, food trucks\, and bar serving Hunter Valley wine and beer. Try a lantern workshop\, explore the library\, and watch the night sky light up with fireworks.\n\nFirelight is free\, family-friendly\, and open to all—a perfect evening to connect\, celebrate\, and make memories in Singleton.
LOCATION:\, 12 Queen Street\, Singleton\, NSW 2330\, NSW\, 2330
END:VEVENT
END:VCALENDAR
