BEGIN:VCALENDAR
VERSION:2.0
PRODID:-//My Community Diary//iCal Event//EN
CALSCALE:GREGORIAN
METHOD:PUBLISH
BEGIN:VEVENT
UID:761c3c46-4de9-42aa-bc21-16038e218161
DTSTAMP:20260422T002933Z
DTSTART;VALUE=DATE:20260516
DTEND;VALUE=DATE:20260517
SUMMARY:Sing out Sista
DESCRIPTION:Sing Out Sister is the sold-out sing and dance along party phenomenon that's all about empowering women\, celebrating music\, creating unforgettable moments of laughter\, connection\, and good vibes. Imagine a high energy\, interactive experience designed exclusively for women to laugh\, let loose\, make friends and ride the natural high that comes from singing your favourite songs with a tribe of inspiring sisters.\n\nEntry Cost\nAll tickets $50 
LOCATION:\, 18 Belinda Street\, Gerringong\, NSW 2534\, NSW\, 2534
END:VEVENT
END:VCALENDAR
